BEGIN:VCALENDAR
PRODID:Appointment
CALSCALE:GREGORIAN
VERSION:2.0
BEGIN:VEVENT
DTSTAMP:20260424T113832Z
DTSTART;VALUE=DATE:20260428
DTEND;VALUE=DATE:20260429
SUMMARY:Ausflug nach Schwerin mit dem Bus
UID:f6924c6d-7f60-410e-be41-825963ca884d
DESCRIPTION:Besichtigung NDR-Landesfunkhaus Schwerin (Führung ca. 1 h)\n\
 n
LOCATION:NDR Landesfunkhaus Schwerin\, Schwerin
END:VEVENT
END:VCALENDAR
