BEGIN:VCALENDAR
PRODID:Appointment
CALSCALE:GREGORIAN
VERSION:2.0
BEGIN:VEVENT
DTSTAMP:20260424T132536Z
DTSTART:20261208T170000
DTEND:20261208T200000
SUMMARY:Delegiertenversammlung Schwerin
UID:e7dd954f-98f8-467f-ad37-c6f1f7431a03
DESCRIPTION:Treffen der vierteljährlichen Versammlungen der gewählten Del
 egierten 
LOCATION:Elefant Hotel und Restaurant\, Goetehstraße 39/41\, 19053 Schwer
 in
END:VEVENT
END:VCALENDAR
