BEGIN:VCALENDAR
PRODID:Appointment
CALSCALE:GREGORIAN
VERSION:2.0
BEGIN:VEVENT
DTSTAMP:20260424T113629Z
DTSTART:20261008T100000
DTEND:20261008T120000
SUMMARY:Mitgliederversammlung
UID:e66b1aba-84f1-4d87-9509-7ceedbd92233
DESCRIPTION:Geschäftsbericht 2026 und Planung 2027\nLandtagswahlen MV
LOCATION:Tagungsraum der Akademie\, Mecklenburgstr. 59\, 19053 Schwerin
END:VEVENT
END:VCALENDAR
