BEGIN:VCALENDAR
PRODID:Appointment
CALSCALE:GREGORIAN
VERSION:2.0
BEGIN:VEVENT
DTSTAMP:20260424T113957Z
DTSTART:20260414T150000
DTEND:20260414T170000
SUMMARY:Mitgliederversammlung
UID:d549252f-3916-4fc0-9bde-4486216851b7
DESCRIPTION:Thema ist noch in Planung
LOCATION:Tagungsraum im Behindertenverband\, Am Umspannwerk\, 19288 Ludwi
 gslust
END:VEVENT
END:VCALENDAR
