BEGIN:VCALENDAR
PRODID:Appointment
CALSCALE:GREGORIAN
VERSION:2.0
BEGIN:VEVENT
DTSTAMP:20260424T113445Z
DTSTART:20260916T170000
DTEND:20260916T200000
SUMMARY:Delegiertenversammlung Rostock
UID:d4be8741-567e-4e34-82d4-d4f6e2a66fa2
DESCRIPTION:Treffen der vierteljährlichen Versammlungen der gewählten Del
 egierten 
LOCATION:Gewerkschaftshaus im Foyer mit Grillen auf der Dachterrasse\, Au
 gust-Bebel-Str. 89\, 18055 Rostock
END:VEVENT
END:VCALENDAR
