BEGIN:VCALENDAR
PRODID:Appointment
CALSCALE:GREGORIAN
VERSION:2.0
BEGIN:VEVENT
DTSTAMP:20260424T132356Z
DTSTART;VALUE=DATE:20260615
DTEND;VALUE=DATE:20260616
SUMMARY:Betriebsbesichtigung "Dockweiler oder Insover Lübz"
UID:d21e4c41-9458-475c-af14-16b60e28e5e8
DESCRIPTION:Juni KW 25 genauer Termin wird noch bekannt gegeben\nErfahrun
 gsaustausch mit Betriebsrat. Anschließend Kaffee und Kuchen
END:VEVENT
END:VCALENDAR
