BEGIN:VCALENDAR
PRODID:Appointment
CALSCALE:GREGORIAN
VERSION:2.0
BEGIN:VEVENT
DTSTAMP:20260424T114004Z
DTSTART:20260924T100000
DTEND:20260924T120000
SUMMARY:Besichtigung Schloss Ludwigslust
UID:cc7d7265-fd35-425d-ac3c-476813435d54
LOCATION:Schloss Ludwigslust\, Ludwigslust
END:VEVENT
END:VCALENDAR
