BEGIN:VCALENDAR
PRODID:Appointment
CALSCALE:GREGORIAN
VERSION:2.0
BEGIN:VEVENT
DTSTAMP:20260424T113445Z
DTSTART:20260907T090000
DTEND:20260907T150000
SUMMARY:gemeinsame OV Sitzung 
UID:c8cea162-e37c-4bfb-99c4-9d98e01a163a
LOCATION:IG Metall Rostock\, August-Bebel-Str. 89\, 18055 Rostock
END:VEVENT
END:VCALENDAR
