BEGIN:VCALENDAR
PRODID:Appointment
CALSCALE:GREGORIAN
VERSION:2.0
BEGIN:VEVENT
DTSTAMP:20260424T113831Z
DTSTART:20261203T150000
DTEND:20261203T180000
SUMMARY:Gemeinsame Weihnachtsfeier 
UID:c0770d5c-1938-4bc3-a64f-9ff52387e959
DESCRIPTION:zusammen mit den Kolleg*innen des AGA-Bereichs Hagenow
LOCATION:Tagungsraum GiBB\, Am Industriegelände 4\, 19288 Ludwigslust
END:VEVENT
END:VCALENDAR
