BEGIN:VCALENDAR
PRODID:Appointment
CALSCALE:GREGORIAN
VERSION:2.0
BEGIN:VEVENT
DTSTAMP:20260424T113824Z
DTSTART:20260609T100000
DTEND:20260609T120000
SUMMARY:Stützpunktberatungen der Vertrauenskörperleitung
UID:b2af3df8-03d3-48dc-80f5-8865910d0c43
LOCATION:MGH "Club am Südring"\, Südring 19\, Parchim
END:VEVENT
END:VCALENDAR
