BEGIN:VCALENDAR
PRODID:Appointment
CALSCALE:GREGORIAN
VERSION:2.0
BEGIN:VEVENT
DTSTAMP:20260424T132622Z
DTSTART:20260624T150000
DTEND:20260624T210000
SUMMARY:Sommerfest
UID:a6e218bd-140a-4b40-b8af-5296cad9457c
LOCATION:Auf dem Hof des Gewerkschaftshauses\, August-Bebel-Str. 89\, 180
 55 Rostock
END:VEVENT
END:VCALENDAR
