BEGIN:VCALENDAR
PRODID:Appointment
CALSCALE:GREGORIAN
VERSION:2.0
BEGIN:VEVENT
DTSTAMP:20260424T150017Z
DTSTART:20261027T150000
DTEND:20261027T170000
SUMMARY:Internet für Senioren
UID:95da6fc4-08fe-46ba-8c24-7ee13e132eff
LOCATION:Rostocker Freizeitzentrum\, Kuphalstraße 77\, 18069 Rostock
END:VEVENT
END:VCALENDAR
