BEGIN:VCALENDAR
PRODID:Appointment
CALSCALE:GREGORIAN
VERSION:2.0
BEGIN:VEVENT
DTSTAMP:20260424T113629Z
DTSTART;VALUE=DATE:20260624
DTEND;VALUE=DATE:20260626
SUMMARY:gemeinsame OV Klausur
UID:94bfda71-a0f2-43fb-89fe-83b9f73b75c1
DESCRIPTION:vor/nach dem Küstenkompass 22.-23.6.26\, Termin und Ortsänder
 ung noch möglich –\nKlärung bis zur OV-Sitzung 26.1.26
LOCATION:Bremen
END:VEVENT
END:VCALENDAR
