BEGIN:VCALENDAR
PRODID:Appointment
CALSCALE:GREGORIAN
VERSION:2.0
BEGIN:VEVENT
DTSTAMP:20260424T132622Z
DTSTART:20260917T170000
DTEND:20260917T200000
SUMMARY:Delegiertenversammlung Schwerin
UID:91b41781-ebd5-4797-8008-53248afed10b
DESCRIPTION:Treffen der vierteljährlichen Versammlungen der gewählten Del
 egierten 
LOCATION:Tagungsraum der Akademie\, Mecklenburgstr. 59\, 19053 Schwerin
END:VEVENT
END:VCALENDAR
