BEGIN:VCALENDAR
PRODID:Appointment
CALSCALE:GREGORIAN
VERSION:2.0
BEGIN:VEVENT
DTSTAMP:20260424T113658Z
DTSTART:20260910T100000
DTEND:20260910T120000
SUMMARY:Mitgliederversammlung
UID:8fb9470b-bad7-4852-b2bf-78e4e0c51b6f
DESCRIPTION:Landtagswahl MV
LOCATION:Tagungsraum der Akademie\, Mecklenburgstr. 59\, 19053 Schwerin
END:VEVENT
END:VCALENDAR
