BEGIN:VCALENDAR
PRODID:Appointment
CALSCALE:GREGORIAN
VERSION:2.0
BEGIN:VEVENT
DTSTAMP:20260424T113956Z
DTSTART:20261022T100000
DTEND:20261022T120000
SUMMARY:Infoveranstaltung 
UID:84b74ba1-5e53-401b-8612-6292f458868b
DESCRIPTION:Gesundheitsinfo Impfungen\, welche wann?
LOCATION:Tagungsraum der Akademie\, Mecklenburgstr. 59\, 19053 Schwerin
END:VEVENT
END:VCALENDAR
