BEGIN:VCALENDAR
PRODID:Appointment
CALSCALE:GREGORIAN
VERSION:2.0
BEGIN:VEVENT
DTSTAMP:20260424T113958Z
DTSTART:20260428T150000
DTEND:20260428T170000
SUMMARY:Parteiprogramme zur Landtagswahl 2026 in MV
UID:7ffabb2f-68cf-4486-a5c7-6e1e32657955
LOCATION:Rostocker Freizeitzentrum\, Kuphalstraße 77\, 18069 Rostock
END:VEVENT
END:VCALENDAR
