BEGIN:VCALENDAR
PRODID:Appointment
CALSCALE:GREGORIAN
VERSION:2.0
BEGIN:VEVENT
DTSTAMP:20260424T114003Z
DTSTART;VALUE=DATE:20260910
DTEND;VALUE=DATE:20260911
SUMMARY:Museumsführung Parchim Sonderausstellung
UID:680e159d-ee49-4b88-9b9d-f83c79641075
DESCRIPTION:Uhrzeit wird noch bekannt gegeben\nKaffee /Kuchen im Restaura
 nt Mahlwerk
END:VEVENT
END:VCALENDAR
