BEGIN:VCALENDAR
PRODID:Appointment
CALSCALE:GREGORIAN
VERSION:2.0
BEGIN:VEVENT
DTSTAMP:20260424T113912Z
DTSTART:20260518T153000
DTEND:20260518T173000
SUMMARY:gemeinsame OV Sitzung per Teams
UID:67803d55-dfb3-475f-94c2-c656f12a355c
LOCATION:IG Metall Rostock und via Teams\, August-Bebel-Str. 89\, 18055 R
 ostock
END:VEVENT
END:VCALENDAR
