BEGIN:VCALENDAR
PRODID:Appointment
CALSCALE:GREGORIAN
VERSION:2.0
BEGIN:VEVENT
DTSTAMP:20260424T113956Z
DTSTART:20261124T150000
DTEND:20261124T170000
SUMMARY:Rückblick AGA auf das Jahr 2026 und Planung für 2027
UID:6123aff6-8cf4-4ac5-95d8-043981ec055b
LOCATION:Gewerkschaftshaus Rotunde (4. Etage)\, August Bebel Str. 89\, 18
 055 Rostock
END:VEVENT
END:VCALENDAR
