BEGIN:VCALENDAR
PRODID:Appointment
CALSCALE:GREGORIAN
VERSION:2.0
BEGIN:VEVENT
DTSTAMP:20260424T113803Z
DTSTART;VALUE=DATE:20260929
DTEND;VALUE=DATE:20260930
SUMMARY:Firmenbesichtigung
UID:5ab586ba-14aa-42b8-ba53-9a8ece310232
END:VEVENT
END:VCALENDAR
