BEGIN:VCALENDAR
PRODID:Appointment
CALSCALE:GREGORIAN
VERSION:2.0
BEGIN:VEVENT
DTSTAMP:20260424T132448Z
DTSTART:20261026T153000
DTEND:20261026T173000
SUMMARY:gemeinsame OV Sitzung per Teams
UID:5662ec63-c598-4038-8430-e0f4ee105c11
LOCATION:IG Metall Rostock und via Teams\, August-Bebel-Str. 89\, 18055 R
 ostock
END:VEVENT
END:VCALENDAR
