BEGIN:VCALENDAR
PRODID:Appointment
CALSCALE:GREGORIAN
VERSION:2.0
BEGIN:VEVENT
DTSTAMP:20260424T113912Z
DTSTART:20261207T090000
DTEND:20261207T150000
SUMMARY:gemeinsame OV Sitzung 
UID:565f60ba-4748-454e-a981-b04f061b7d09
LOCATION:IG Metall Schwerin\, Mecklenburgstr. 59\, 19053 Schwerin
END:VEVENT
END:VCALENDAR
