BEGIN:VCALENDAR
PRODID:Appointment
CALSCALE:GREGORIAN
VERSION:2.0
BEGIN:VEVENT
DTSTAMP:20260424T132314Z
DTSTART:20260420T090000
DTEND:20260420T150000
SUMMARY:gemeinsame OV Sitzung 
UID:5563d7b2-6aec-4256-bc7e-433e6576955a
LOCATION:IG Metall Schwerin\, Mecklenburgstr. 59\, 19053 Schwerin
END:VEVENT
END:VCALENDAR
