BEGIN:VCALENDAR
PRODID:Appointment
CALSCALE:GREGORIAN
VERSION:2.0
BEGIN:VEVENT
DTSTAMP:20260424T113614Z
DTSTART:20261208T100000
DTEND:20261208T120000
SUMMARY:Stützpunktberatungen der Vertrauenskörperleitung
UID:4a2a3a87-2b0c-4cd3-b98c-d12d0fdf9136
LOCATION:MGH "Club am Südring"\, Südring 19\, Parchim
END:VEVENT
END:VCALENDAR
