BEGIN:VCALENDAR
PRODID:Appointment
CALSCALE:GREGORIAN
VERSION:2.0
BEGIN:VEVENT
DTSTAMP:20260424T113613Z
DTSTART:20261130T150000
DTEND:20261130T180000
SUMMARY:Weihnachtsfeier
UID:48740da0-ee74-4bf5-bbc4-3e1f50feaba1
LOCATION:Diakonie Wichernsaal\, Schwerin
END:VEVENT
END:VCALENDAR
