BEGIN:VCALENDAR
PRODID:Appointment
CALSCALE:GREGORIAN
VERSION:2.0
BEGIN:VEVENT
DTSTAMP:20260424T113745Z
DTSTART:20261207T170000
DTEND:20261207T200000
SUMMARY:Delegiertenversammlung Rostock
UID:472985cb-45b6-49b6-8e17-da3ed1dc33ec
DESCRIPTION:Treffen der vierteljährlichen Versammlungen der gewählten Del
 egierten 
LOCATION:Penta Hotel\, Schwaansche Str. 6\, 18055 Rostock
END:VEVENT
END:VCALENDAR
