BEGIN:VCALENDAR
PRODID:Appointment
CALSCALE:GREGORIAN
VERSION:2.0
BEGIN:VEVENT
DTSTAMP:20260424T113833Z
DTSTART:20260521T100000
DTEND:20260521T120000
SUMMARY:Betriebsbesichtigung
UID:3d83a738-1a26-454b-9602-4563eece0faa
DESCRIPTION:Prysmian Schwerin (ehem. Kabelwerk)
LOCATION:Prysmian Kabel und Systeme GmbH\, Siemenspl. 1\, 19057 Schwerin
END:VEVENT
END:VCALENDAR
