BEGIN:VCALENDAR
PRODID:Appointment
CALSCALE:GREGORIAN
VERSION:2.0
BEGIN:VEVENT
DTSTAMP:20260424T132610Z
DTSTART:20260501T100000
DTEND:20260501T150000
SUMMARY:Maikundgebung
UID:36e29fca-d0e1-4303-9036-5b5c6a605966
LOCATION:Schwerin\, Am Grunthalplatz und Markt\, 19053 Schwerin
END:VEVENT
END:VCALENDAR
