BEGIN:VCALENDAR
PRODID:Appointment
CALSCALE:GREGORIAN
VERSION:2.0
BEGIN:VEVENT
DTSTAMP:20260424T113630Z
DTSTART:20261103T100000
DTEND:20261103T120000
SUMMARY:Polizeiliche Kriminalprävention
UID:2eabf484-941d-4029-8e77-005ecf308d11
DESCRIPTION:"Der Enkeltrick"
LOCATION:MGH "Club am Südring"\, Südring 19\, Parchim
END:VEVENT
END:VCALENDAR
