BEGIN:VCALENDAR
PRODID:Appointment
CALSCALE:GREGORIAN
VERSION:2.0
BEGIN:VEVENT
DTSTAMP:20260424T113630Z
DTSTART:20261211T140000
DTEND:20261211T170000
SUMMARY:Jahresabschlussfeier/Weihnachtsfeier
UID:26d8c5b4-3e97-48ab-a286-c242e61d6efb
DESCRIPTION:Programm mit Kaffee und Weihnachtskuchen
LOCATION:MGH "Club am Südring"\, Südring 19\, Parchim
END:VEVENT
END:VCALENDAR
