BEGIN:VCALENDAR
PRODID:Appointment
CALSCALE:GREGORIAN
VERSION:2.0
BEGIN:VEVENT
DTSTAMP:20260424T114003Z
DTSTART:20260908T100000
DTEND:20260908T120000
SUMMARY:Stützpunktberatungen der Vertrauenskörperleitung
UID:26a37930-7712-4401-afc9-660370e831cd
LOCATION:MGH "Club am Südring"\, Südring 19\, Parchim
END:VEVENT
END:VCALENDAR
