BEGIN:VCALENDAR
PRODID:Appointment
CALSCALE:GREGORIAN
VERSION:2.0
BEGIN:VEVENT
DTSTAMP:20260424T151017Z
DTSTART:20261215T150000
DTEND:20261215T170000
SUMMARY:Weihnachtsfeier/ Jahresabschluss 2026
UID:1da09f03-9b3a-4247-9449-36a0db21f928
LOCATION:Rostocker Freizeitzentrum\, Kuphalstraße 77\, 18069 Rostock
END:VEVENT
END:VCALENDAR
