BEGIN:VCALENDAR
PRODID:Appointment
CALSCALE:GREGORIAN
VERSION:2.0
BEGIN:VEVENT
DTSTAMP:20260424T114004Z
DTSTART:20260630T170000
DTEND:20260630T200000
SUMMARY:gemeinsame Delegiertenversammlung 
UID:0c7f04d0-c723-4cdc-9752-f12bf71152af
DESCRIPTION:Treffen der vierteljährlichen Versammlungen der gewählten Del
 egierten 
LOCATION:TGZ - Technologie- und Gewerbezentrum e.V. Wismar\, Alter Holzha
 fen 19\, 23966 Wismar
END:VEVENT
END:VCALENDAR
