BEGIN:VCALENDAR
PRODID:Appointment
CALSCALE:GREGORIAN
VERSION:2.0
BEGIN:VEVENT
DTSTAMP:20260424T113658Z
DTSTART:20261013T150000
DTEND:20261013T170000
SUMMARY:Mitgliederversammlung
UID:0be4aa4b-de0a-41a7-acf2-1f2924a3e3ee
DESCRIPTION:"Sicherheit und Prävention"
LOCATION:Tagungsraum im Behindertenverband\, Am Umspannwerk\, 19288 Ludwi
 gslust
END:VEVENT
END:VCALENDAR
