BEGIN:VCALENDAR
PRODID:Appointment
CALSCALE:GREGORIAN
VERSION:2.0
BEGIN:VEVENT
DTSTAMP:20260424T145323Z
DTSTART:20260526T150000
DTEND:20260526T170000
SUMMARY:Wie weiter mit der Rente? Steuer- Finanzamt
UID:099e2505-01f2-4955-829e-a247f57de616
LOCATION:Gewerkschaftshaus Rotunde (4. Etage)\, August Bebel Str. 89\, 18
 055 Rostock
END:VEVENT
END:VCALENDAR
